BEGIN:VCALENDAR
VERSION:2.0
PRODID:-//Colorado Association of Charter School Authorizers - ECPv6.15.20//NONSGML v1.0//EN
CALSCALE:GREGORIAN
METHOD:PUBLISH
X-ORIGINAL-URL:https://coauthorizers.org
X-WR-CALDESC:Events for Colorado Association of Charter School Authorizers
REFRESH-INTERVAL;VALUE=DURATION:PT1H
X-Robots-Tag:noindex
X-PUBLISHED-TTL:PT1H
BEGIN:VTIMEZONE
TZID:America/Denver
BEGIN:DAYLIGHT
TZOFFSETFROM:-0700
TZOFFSETTO:-0600
TZNAME:MDT
DTSTART:20240310T090000
END:DAYLIGHT
BEGIN:STANDARD
TZOFFSETFROM:-0600
TZOFFSETTO:-0700
TZNAME:MST
DTSTART:20241103T080000
END:STANDARD
BEGIN:DAYLIGHT
TZOFFSETFROM:-0700
TZOFFSETTO:-0600
TZNAME:MDT
DTSTART:20250309T090000
END:DAYLIGHT
BEGIN:STANDARD
TZOFFSETFROM:-0600
TZOFFSETTO:-0700
TZNAME:MST
DTSTART:20251102T080000
END:STANDARD
BEGIN:DAYLIGHT
TZOFFSETFROM:-0700
TZOFFSETTO:-0600
TZNAME:MDT
DTSTART:20260308T090000
END:DAYLIGHT
BEGIN:STANDARD
TZOFFSETFROM:-0600
TZOFFSETTO:-0700
TZNAME:MST
DTSTART:20261101T080000
END:STANDARD
BEGIN:DAYLIGHT
TZOFFSETFROM:-0700
TZOFFSETTO:-0600
TZNAME:MDT
DTSTART:20270314T090000
END:DAYLIGHT
BEGIN:STANDARD
TZOFFSETFROM:-0600
TZOFFSETTO:-0700
TZNAME:MST
DTSTART:20271107T080000
END:STANDARD
END:VTIMEZONE
BEGIN:VEVENT
DTSTART;TZID=America/Denver:20260415T120000
DTEND;TZID=America/Denver:20260415T130000
DTSTAMP:20260423T051732
CREATED:20260126T203144Z
LAST-MODIFIED:20260126T205222Z
UID:10000071-1776254400-1776258000@coauthorizers.org
SUMMARY:Authorizer Monthly Virtual Networking Call
DESCRIPTION:The monthly virtual networking call allows authorizers across the state to connect\, troubleshoot\, brainstorm\, share insights\, and discuss current happenings in their areas.\nThese Zoom calls will occur every month on the third Wednesday from 12:00-1:00 pm Mountain Time. \nFor more information\, please reach out to Mackenzie Khan at mackenzie.khan@coauthorizers.org. \n 
URL:https://coauthorizers.org/event/authorizer-monthly-virtual-networking-call/2026-04-15/
LOCATION:Zoom
CATEGORIES:Meeting
ATTACH;FMTTYPE=image/png:https://coauthorizers.org/wp-content/uploads/2021/09/CACSA-logo-400x176-1.png
END:VEVENT
BEGIN:VEVENT
DTSTART;TZID=America/Denver:20260318T120000
DTEND;TZID=America/Denver:20260318T130000
DTSTAMP:20260423T051732
CREATED:20260126T203144Z
LAST-MODIFIED:20260126T205222Z
UID:10000070-1773835200-1773838800@coauthorizers.org
SUMMARY:Authorizer Monthly Virtual Networking Call
DESCRIPTION:The monthly virtual networking call allows authorizers across the state to connect\, troubleshoot\, brainstorm\, share insights\, and discuss current happenings in their areas.\nThese Zoom calls will occur every month on the third Wednesday from 12:00-1:00 pm Mountain Time. \nFor more information\, please reach out to Mackenzie Khan at mackenzie.khan@coauthorizers.org. \n 
URL:https://coauthorizers.org/event/authorizer-monthly-virtual-networking-call/2026-03-18/
LOCATION:Zoom
CATEGORIES:Meeting
ATTACH;FMTTYPE=image/png:https://coauthorizers.org/wp-content/uploads/2021/09/CACSA-logo-400x176-1.png
END:VEVENT
BEGIN:VEVENT
DTSTART;TZID=America/Denver:20260218T120000
DTEND;TZID=America/Denver:20260218T130000
DTSTAMP:20260423T051732
CREATED:20260126T203144Z
LAST-MODIFIED:20260126T205222Z
UID:10000069-1771416000-1771419600@coauthorizers.org
SUMMARY:Authorizer Monthly Virtual Networking Call
DESCRIPTION:The monthly virtual networking call allows authorizers across the state to connect\, troubleshoot\, brainstorm\, share insights\, and discuss current happenings in their areas.\nThese Zoom calls will occur every month on the third Wednesday from 12:00-1:00 pm Mountain Time. \nFor more information\, please reach out to Mackenzie Khan at mackenzie.khan@coauthorizers.org. \n 
URL:https://coauthorizers.org/event/authorizer-monthly-virtual-networking-call/2026-02-18/
LOCATION:Zoom
CATEGORIES:Meeting
ATTACH;FMTTYPE=image/png:https://coauthorizers.org/wp-content/uploads/2021/09/CACSA-logo-400x176-1.png
END:VEVENT
BEGIN:VEVENT
DTSTART;TZID=America/Denver:20250828T090000
DTEND;TZID=America/Denver:20250828T140000
DTSTAMP:20260423T051732
CREATED:20250328T144449Z
LAST-MODIFIED:20250530T141116Z
UID:10000053-1756371600-1756389600@coauthorizers.org
SUMMARY:Quarterly In-Person Authorizer Meeting
DESCRIPTION:Location: TBA\nNote: Date and time are subject to change
URL:https://coauthorizers.org/event/all-membership-quarterly-meeting-2/
LOCATION:TBD
CATEGORIES:Meeting
GEO:39.7203938;-104.8047433
END:VEVENT
BEGIN:VEVENT
DTSTART;TZID=America/Denver:20250509T130000
DTEND;TZID=America/Denver:20250509T140000
DTSTAMP:20260423T051732
CREATED:20240827T234850Z
LAST-MODIFIED:20240828T003340Z
UID:10000011-1746795600-1746799200@coauthorizers.org
SUMMARY:Special Education Stakeholders Group
DESCRIPTION:
URL:https://coauthorizers.org/event/special-education-stakeholders-group-11/
LOCATION:CO
CATEGORIES:Meeting
END:VEVENT
BEGIN:VEVENT
DTSTART;TZID=America/Denver:20250508T090000
DTEND;TZID=America/Denver:20250508T150000
DTSTAMP:20260423T051732
CREATED:20250328T144249Z
LAST-MODIFIED:20250328T144656Z
UID:10000052-1746694800-1746716400@coauthorizers.org
SUMMARY:All Membership Quarterly Meeting
DESCRIPTION:
URL:https://coauthorizers.org/event/all-membership-quarterly-meeting/
LOCATION:The Penrose House\, 1661 Mesa Avenue\, Colorado Springs\, CO\, 80906
CATEGORIES:Meeting
GEO:38.7881689;-104.8589611
X-APPLE-STRUCTURED-LOCATION;VALUE=URI;X-ADDRESS=The Penrose House 1661 Mesa Avenue Colorado Springs CO 80906;X-APPLE-RADIUS=500;X-TITLE=1661 Mesa Avenue:geo:-104.8589611,38.7881689
END:VEVENT
BEGIN:VEVENT
DTSTART;VALUE=DATE:20250227
DTEND;VALUE=DATE:20250228
DTSTAMP:20260423T051732
CREATED:20250111T153515Z
LAST-MODIFIED:20250111T153515Z
UID:10000051-1740614400-1740700799@coauthorizers.org
SUMMARY:CACSA Membership Meeting
DESCRIPTION:The CACSA membership meeting will be held during the Colorado League of Charter Schools Conference. Contact Mackenzie Khan at mackenzie.khan@coauthorizers.org for more information.
URL:https://coauthorizers.org/event/cacsa-membership-meeting/
LOCATION:Mariott Denver Tech Center\, 4900 South Syracuse St.\, Denver\, CO\, 80237\, United States
CATEGORIES:Meeting
GEO:39.6269659;-104.9018503
X-APPLE-STRUCTURED-LOCATION;VALUE=URI;X-ADDRESS=Mariott Denver Tech Center 4900 South Syracuse St. Denver CO 80237 United States;X-APPLE-RADIUS=500;X-TITLE=4900 South Syracuse St.:geo:-104.9018503,39.6269659
END:VEVENT
END:VCALENDAR