BEGIN:VCALENDAR
VERSION:2.0
PRODID:-//Colorado Association of Charter School Authorizers - ECPv6.15.20//NONSGML v1.0//EN
CALSCALE:GREGORIAN
METHOD:PUBLISH
X-ORIGINAL-URL:https://coauthorizers.org
X-WR-CALDESC:Events for Colorado Association of Charter School Authorizers
REFRESH-INTERVAL;VALUE=DURATION:PT1H
X-Robots-Tag:noindex
X-PUBLISHED-TTL:PT1H
BEGIN:VTIMEZONE
TZID:America/Denver
BEGIN:DAYLIGHT
TZOFFSETFROM:-0700
TZOFFSETTO:-0600
TZNAME:MDT
DTSTART:20250309T090000
END:DAYLIGHT
BEGIN:STANDARD
TZOFFSETFROM:-0600
TZOFFSETTO:-0700
TZNAME:MST
DTSTART:20251102T080000
END:STANDARD
BEGIN:DAYLIGHT
TZOFFSETFROM:-0700
TZOFFSETTO:-0600
TZNAME:MDT
DTSTART:20260308T090000
END:DAYLIGHT
BEGIN:STANDARD
TZOFFSETFROM:-0600
TZOFFSETTO:-0700
TZNAME:MST
DTSTART:20261101T080000
END:STANDARD
BEGIN:DAYLIGHT
TZOFFSETFROM:-0700
TZOFFSETTO:-0600
TZNAME:MDT
DTSTART:20270314T090000
END:DAYLIGHT
BEGIN:STANDARD
TZOFFSETFROM:-0600
TZOFFSETTO:-0700
TZNAME:MST
DTSTART:20271107T080000
END:STANDARD
END:VTIMEZONE
BEGIN:VEVENT
DTSTART;TZID=America/Denver:20260506T090000
DTEND;TZID=America/Denver:20260506T140000
DTSTAMP:20260423T050241
CREATED:20260228T183522Z
LAST-MODIFIED:20260409T233829Z
UID:10000106-1778058000-1778076000@coauthorizers.org
SUMMARY:Quarterly In-Person Authorizer Meeting
DESCRIPTION:CACSA is hosting an in-person authorizer meeting designed to be interactive\, practical\, and directly informed by member voices. Participants will engage in discussion\, share perspectives\, and help shape CACSA’s priorities\, resources\, and supports to strengthen charter school authorizing across Colorado. \nMeeting Location: \nAurora Public Schools\, PLCC\, Board Meeting Room\n5771 E. 1st Ave\, Aurora\, CO 80011\nConference room La Plata \n 
URL:https://coauthorizers.org/event/quarterly-in-person-authorizer-meeting/
LOCATION:Aurora Public Schools\, 15771 E. 1st Street\, Aurora\, CO\, 80011
CATEGORIES:Meeting
ATTACH;FMTTYPE=image/png:https://coauthorizers.org/wp-content/uploads/2021/09/cropped-CACSA-logo-400x176-1.png
GEO:39.7203938;-104.8047433
X-APPLE-STRUCTURED-LOCATION;VALUE=URI;X-ADDRESS=Aurora Public Schools 15771 E. 1st Street Aurora CO 80011;X-APPLE-RADIUS=500;X-TITLE=15771 E. 1st Street:geo:-104.8047433,39.7203938
END:VEVENT
BEGIN:VEVENT
DTSTART;TZID=America/Denver:20260520T120000
DTEND;TZID=America/Denver:20260520T130000
DTSTAMP:20260423T050241
CREATED:20260126T203144Z
LAST-MODIFIED:20260126T205222Z
UID:10000072-1779278400-1779282000@coauthorizers.org
SUMMARY:Authorizer Monthly Virtual Networking Call
DESCRIPTION:The monthly virtual networking call allows authorizers across the state to connect\, troubleshoot\, brainstorm\, share insights\, and discuss current happenings in their areas.\nThese Zoom calls will occur every month on the third Wednesday from 12:00-1:00 pm Mountain Time. \nFor more information\, please reach out to Mackenzie Khan at mackenzie.khan@coauthorizers.org. \n 
URL:https://coauthorizers.org/event/authorizer-monthly-virtual-networking-call/2026-05-20/
LOCATION:Zoom
CATEGORIES:Meeting
ATTACH;FMTTYPE=image/png:https://coauthorizers.org/wp-content/uploads/2021/09/CACSA-logo-400x176-1.png
END:VEVENT
BEGIN:VEVENT
DTSTART;TZID=America/Denver:20260805T090000
DTEND;TZID=America/Denver:20260805T140000
DTSTAMP:20260423T050241
CREATED:20260228T183711Z
LAST-MODIFIED:20260407T235420Z
UID:10000107-1785920400-1785938400@coauthorizers.org
SUMMARY:Quarterly In-Person Authorizer Meeting
DESCRIPTION:CACSA is hosting an in-person authorizer meeting designed to be interactive\, practical\, and directly informed by member voices. Participants will engage in discussion\, share perspectives\, and help shape CACSA’s priorities\, resources\, and supports to strengthen charter school authorizing across Colorado.
URL:https://coauthorizers.org/event/quarterly-in-person-authorizer-meeting-2/
LOCATION:The Penrose House\, 1661 Mesa Avenue\, Colorado Springs\, CO\, 80906
CATEGORIES:Meeting
ATTACH;FMTTYPE=image/png:https://coauthorizers.org/wp-content/uploads/2021/09/cropped-CACSA-logo-400x176-1.png
GEO:38.7881689;-104.8589611
X-APPLE-STRUCTURED-LOCATION;VALUE=URI;X-ADDRESS=The Penrose House 1661 Mesa Avenue Colorado Springs CO 80906;X-APPLE-RADIUS=500;X-TITLE=1661 Mesa Avenue:geo:-104.8589611,38.7881689
END:VEVENT
BEGIN:VEVENT
DTSTART;TZID=America/Denver:20261106T090000
DTEND;TZID=America/Denver:20261106T140000
DTSTAMP:20260423T050241
CREATED:20260228T183832Z
LAST-MODIFIED:20260407T235136Z
UID:10000108-1793955600-1793973600@coauthorizers.org
SUMMARY:Quarterly In-Person Authorizer Meeting
DESCRIPTION:CACSA is hosting an in-person authorizer meeting designed to be interactive\, practical\, and directly informed by member voices. Participants will engage in discussion\, share perspectives\, and help shape CACSA’s priorities\, resources\, and supports to strengthen charter school authorizing across Colorado.
URL:https://coauthorizers.org/event/quarterly-in-person-authorizer-meeting-3/
LOCATION:Jeffco Public Schools\, 1829 Denver West Dr\, Bldg. 27\, ED Center Rm 4E\, Golden\, CO\, 80401\, United States
CATEGORIES:Meeting
ATTACH;FMTTYPE=image/png:https://coauthorizers.org/wp-content/uploads/2021/09/cropped-CACSA-logo-400x176-1.png
GEO:39.738027;-105.164494
X-APPLE-STRUCTURED-LOCATION;VALUE=URI;X-ADDRESS=Jeffco Public Schools 1829 Denver West Dr Bldg. 27 ED Center Rm 4E Golden CO 80401 United States;X-APPLE-RADIUS=500;X-TITLE=1829 Denver West Dr\, Bldg. 27\, ED Center Rm 4E:geo:-105.164494,39.738027
END:VEVENT
END:VCALENDAR