BEGIN:VCALENDAR
VERSION:2.0
PRODID:-//Colorado Association of Charter School Authorizers - ECPv6.15.20//NONSGML v1.0//EN
CALSCALE:GREGORIAN
METHOD:PUBLISH
X-WR-CALNAME:Colorado Association of Charter School Authorizers
X-ORIGINAL-URL:https://coauthorizers.org
X-WR-CALDESC:Events for Colorado Association of Charter School Authorizers
REFRESH-INTERVAL;VALUE=DURATION:PT1H
X-Robots-Tag:noindex
X-PUBLISHED-TTL:PT1H
BEGIN:VTIMEZONE
TZID:America/Denver
BEGIN:DAYLIGHT
TZOFFSETFROM:-0700
TZOFFSETTO:-0600
TZNAME:MDT
DTSTART:20230312T090000
END:DAYLIGHT
BEGIN:STANDARD
TZOFFSETFROM:-0600
TZOFFSETTO:-0700
TZNAME:MST
DTSTART:20231105T080000
END:STANDARD
BEGIN:DAYLIGHT
TZOFFSETFROM:-0700
TZOFFSETTO:-0600
TZNAME:MDT
DTSTART:20240310T090000
END:DAYLIGHT
BEGIN:STANDARD
TZOFFSETFROM:-0600
TZOFFSETTO:-0700
TZNAME:MST
DTSTART:20241103T080000
END:STANDARD
BEGIN:DAYLIGHT
TZOFFSETFROM:-0700
TZOFFSETTO:-0600
TZNAME:MDT
DTSTART:20250309T090000
END:DAYLIGHT
BEGIN:STANDARD
TZOFFSETFROM:-0600
TZOFFSETTO:-0700
TZNAME:MST
DTSTART:20251102T080000
END:STANDARD
END:VTIMEZONE
BEGIN:VEVENT
DTSTART;TZID=America/Denver:20241203T103000
DTEND;TZID=America/Denver:20241203T113000
DTSTAMP:20260424T200626
CREATED:20240827T234906Z
LAST-MODIFIED:20240828T003903Z
UID:10000020-1733221800-1733225400@coauthorizers.org
SUMMARY:Colorado Authorizing Fundamentals
DESCRIPTION:Model Authorizer Panel (Q&A)
URL:https://coauthorizers.org/event/colorado-authorizing-fundamentals-9/
END:VEVENT
BEGIN:VEVENT
DTSTART;TZID=America/Denver:20241206T103000
DTEND;TZID=America/Denver:20241206T113000
DTSTAMP:20260424T200626
CREATED:20240827T234935Z
LAST-MODIFIED:20240828T003833Z
UID:10000027-1733481000-1733484600@coauthorizers.org
SUMMARY:Financial Oversight Working Group
DESCRIPTION:
URL:https://coauthorizers.org/event/financial-oversight-working-group-6/
END:VEVENT
BEGIN:VEVENT
DTSTART;TZID=America/Denver:20241213T130000
DTEND;TZID=America/Denver:20241213T140000
DTSTAMP:20260424T200626
CREATED:20240827T234835Z
LAST-MODIFIED:20240828T003807Z
UID:10000006-1734094800-1734098400@coauthorizers.org
SUMMARY:Special Education Stakeholders Group
DESCRIPTION:
URL:https://coauthorizers.org/event/special-education-stakeholders-group-6/
END:VEVENT
BEGIN:VEVENT
DTSTART;TZID=America/Denver:20241217T103000
DTEND;TZID=America/Denver:20241217T113000
DTSTAMP:20260424T200626
CREATED:20240827T234920Z
LAST-MODIFIED:20240828T003741Z
UID:10000021-1734431400-1734435000@coauthorizers.org
SUMMARY:Colorado Authorizing Fundamentals
DESCRIPTION:Reflections & Recap
URL:https://coauthorizers.org/event/colorado-authorizing-fundamentals-10/
END:VEVENT
END:VCALENDAR