BEGIN:VCALENDAR
VERSION:2.0
PRODID:-//Colorado Association of Charter School Authorizers - ECPv6.15.20//NONSGML v1.0//EN
CALSCALE:GREGORIAN
METHOD:PUBLISH
X-WR-CALNAME:Colorado Association of Charter School Authorizers
X-ORIGINAL-URL:https://coauthorizers.org
X-WR-CALDESC:Events for Colorado Association of Charter School Authorizers
REFRESH-INTERVAL;VALUE=DURATION:PT1H
X-Robots-Tag:noindex
X-PUBLISHED-TTL:PT1H
BEGIN:VTIMEZONE
TZID:America/Denver
BEGIN:DAYLIGHT
TZOFFSETFROM:-0700
TZOFFSETTO:-0600
TZNAME:MDT
DTSTART:20230312T090000
END:DAYLIGHT
BEGIN:STANDARD
TZOFFSETFROM:-0600
TZOFFSETTO:-0700
TZNAME:MST
DTSTART:20231105T080000
END:STANDARD
BEGIN:DAYLIGHT
TZOFFSETFROM:-0700
TZOFFSETTO:-0600
TZNAME:MDT
DTSTART:20240310T090000
END:DAYLIGHT
BEGIN:STANDARD
TZOFFSETFROM:-0600
TZOFFSETTO:-0700
TZNAME:MST
DTSTART:20241103T080000
END:STANDARD
BEGIN:DAYLIGHT
TZOFFSETFROM:-0700
TZOFFSETTO:-0600
TZNAME:MDT
DTSTART:20250309T090000
END:DAYLIGHT
BEGIN:STANDARD
TZOFFSETFROM:-0600
TZOFFSETTO:-0700
TZNAME:MST
DTSTART:20251102T080000
END:STANDARD
BEGIN:DAYLIGHT
TZOFFSETFROM:-0700
TZOFFSETTO:-0600
TZNAME:MDT
DTSTART:20260308T090000
END:DAYLIGHT
BEGIN:STANDARD
TZOFFSETFROM:-0600
TZOFFSETTO:-0700
TZNAME:MST
DTSTART:20261101T080000
END:STANDARD
BEGIN:DAYLIGHT
TZOFFSETFROM:-0700
TZOFFSETTO:-0600
TZNAME:MDT
DTSTART:20270314T090000
END:DAYLIGHT
BEGIN:STANDARD
TZOFFSETFROM:-0600
TZOFFSETTO:-0700
TZNAME:MST
DTSTART:20271107T080000
END:STANDARD
END:VTIMEZONE
BEGIN:VEVENT
DTSTART;TZID=America/Denver:20260415T120000
DTEND;TZID=America/Denver:20260415T130000
DTSTAMP:20260423T051554
CREATED:20260126T203144Z
LAST-MODIFIED:20260126T205222Z
UID:10000071-1776254400-1776258000@coauthorizers.org
SUMMARY:Authorizer Monthly Virtual Networking Call
DESCRIPTION:The monthly virtual networking call allows authorizers across the state to connect\, troubleshoot\, brainstorm\, share insights\, and discuss current happenings in their areas.\nThese Zoom calls will occur every month on the third Wednesday from 12:00-1:00 pm Mountain Time. \nFor more information\, please reach out to Mackenzie Khan at mackenzie.khan@coauthorizers.org. \n 
URL:https://coauthorizers.org/event/authorizer-monthly-virtual-networking-call/2026-04-15/
LOCATION:Zoom
CATEGORIES:Meeting
ATTACH;FMTTYPE=image/png:https://coauthorizers.org/wp-content/uploads/2021/09/CACSA-logo-400x176-1.png
END:VEVENT
BEGIN:VEVENT
DTSTART;TZID=America/Denver:20260318T120000
DTEND;TZID=America/Denver:20260318T130000
DTSTAMP:20260423T051554
CREATED:20260126T203144Z
LAST-MODIFIED:20260126T205222Z
UID:10000070-1773835200-1773838800@coauthorizers.org
SUMMARY:Authorizer Monthly Virtual Networking Call
DESCRIPTION:The monthly virtual networking call allows authorizers across the state to connect\, troubleshoot\, brainstorm\, share insights\, and discuss current happenings in their areas.\nThese Zoom calls will occur every month on the third Wednesday from 12:00-1:00 pm Mountain Time. \nFor more information\, please reach out to Mackenzie Khan at mackenzie.khan@coauthorizers.org. \n 
URL:https://coauthorizers.org/event/authorizer-monthly-virtual-networking-call/2026-03-18/
LOCATION:Zoom
CATEGORIES:Meeting
ATTACH;FMTTYPE=image/png:https://coauthorizers.org/wp-content/uploads/2021/09/CACSA-logo-400x176-1.png
END:VEVENT
BEGIN:VEVENT
DTSTART;TZID=America/Denver:20260225T130000
DTEND;TZID=America/Denver:20260225T160000
DTSTAMP:20260423T051554
CREATED:20260126T203632Z
LAST-MODIFIED:20260126T203632Z
UID:10000073-1772024400-1772035200@coauthorizers.org
SUMMARY:CACSA In-Person Membership Meeting
DESCRIPTION:CACSA will host an in-person membership meeting on Wednesday\, February 25\, 2026\, from 1:00–4:00 p.m. MST.  Plan to join fellow authorizers for an afternoon of connection and collaboration. \nLocation: Denver Marriott Tech Center\n4900 S Syracuse St\, Denver\, CO 80237
URL:https://coauthorizers.org/event/cacsa-in-person-membership-meeting/
LOCATION:Mariott Denver Tech Center\, 4900 South Syracuse St.\, Denver\, CO\, 80237\, United States
ATTACH;FMTTYPE=image/png:https://coauthorizers.org/wp-content/uploads/2021/09/CACSA-logo-400x176-1.png
GEO:39.6269659;-104.9018503
X-APPLE-STRUCTURED-LOCATION;VALUE=URI;X-ADDRESS=Mariott Denver Tech Center 4900 South Syracuse St. Denver CO 80237 United States;X-APPLE-RADIUS=500;X-TITLE=4900 South Syracuse St.:geo:-104.9018503,39.6269659
END:VEVENT
BEGIN:VEVENT
DTSTART;TZID=America/Denver:20260218T120000
DTEND;TZID=America/Denver:20260218T130000
DTSTAMP:20260423T051554
CREATED:20260126T203144Z
LAST-MODIFIED:20260126T205222Z
UID:10000069-1771416000-1771419600@coauthorizers.org
SUMMARY:Authorizer Monthly Virtual Networking Call
DESCRIPTION:The monthly virtual networking call allows authorizers across the state to connect\, troubleshoot\, brainstorm\, share insights\, and discuss current happenings in their areas.\nThese Zoom calls will occur every month on the third Wednesday from 12:00-1:00 pm Mountain Time. \nFor more information\, please reach out to Mackenzie Khan at mackenzie.khan@coauthorizers.org. \n 
URL:https://coauthorizers.org/event/authorizer-monthly-virtual-networking-call/2026-02-18/
LOCATION:Zoom
CATEGORIES:Meeting
ATTACH;FMTTYPE=image/png:https://coauthorizers.org/wp-content/uploads/2021/09/CACSA-logo-400x176-1.png
END:VEVENT
BEGIN:VEVENT
DTSTART;TZID=America/Denver:20250828T090000
DTEND;TZID=America/Denver:20250828T140000
DTSTAMP:20260423T051554
CREATED:20250328T144449Z
LAST-MODIFIED:20250530T141116Z
UID:10000053-1756371600-1756389600@coauthorizers.org
SUMMARY:Quarterly In-Person Authorizer Meeting
DESCRIPTION:Location: TBA\nNote: Date and time are subject to change
URL:https://coauthorizers.org/event/all-membership-quarterly-meeting-2/
LOCATION:TBD
CATEGORIES:Meeting
GEO:39.7203938;-104.8047433
END:VEVENT
BEGIN:VEVENT
DTSTART;TZID=America/Denver:20250509T130000
DTEND;TZID=America/Denver:20250509T140000
DTSTAMP:20260423T051554
CREATED:20240827T234850Z
LAST-MODIFIED:20240828T003340Z
UID:10000011-1746795600-1746799200@coauthorizers.org
SUMMARY:Special Education Stakeholders Group
DESCRIPTION:
URL:https://coauthorizers.org/event/special-education-stakeholders-group-11/
CATEGORIES:Meeting
END:VEVENT
BEGIN:VEVENT
DTSTART;TZID=America/Denver:20250508T090000
DTEND;TZID=America/Denver:20250508T150000
DTSTAMP:20260423T051554
CREATED:20250328T144249Z
LAST-MODIFIED:20250328T144656Z
UID:10000052-1746694800-1746716400@coauthorizers.org
SUMMARY:All Membership Quarterly Meeting
DESCRIPTION:
URL:https://coauthorizers.org/event/all-membership-quarterly-meeting/
LOCATION:The Penrose House\, 1661 Mesa Avenue\, Colorado Springs\, CO\, 80906
CATEGORIES:Meeting
GEO:38.7881689;-104.8589611
X-APPLE-STRUCTURED-LOCATION;VALUE=URI;X-ADDRESS=The Penrose House 1661 Mesa Avenue Colorado Springs CO 80906;X-APPLE-RADIUS=500;X-TITLE=1661 Mesa Avenue:geo:-104.8589611,38.7881689
END:VEVENT
BEGIN:VEVENT
DTSTART;TZID=America/Denver:20250411T130000
DTEND;TZID=America/Denver:20250411T140000
DTSTAMP:20260423T051554
CREATED:20240827T234836Z
LAST-MODIFIED:20240828T003400Z
UID:10000010-1744376400-1744380000@coauthorizers.org
SUMMARY:Special Education Stakeholders Group
DESCRIPTION:
URL:https://coauthorizers.org/event/special-education-stakeholders-group-10/
END:VEVENT
BEGIN:VEVENT
DTSTART;TZID=America/Denver:20250314T130000
DTEND;TZID=America/Denver:20250314T140000
DTSTAMP:20260423T051554
CREATED:20240827T234835Z
LAST-MODIFIED:20240828T003525Z
UID:10000009-1741957200-1741960800@coauthorizers.org
SUMMARY:Special Education Stakeholders Group
DESCRIPTION:
URL:https://coauthorizers.org/event/special-education-stakeholders-group-9/
END:VEVENT
BEGIN:VEVENT
DTSTART;VALUE=DATE:20250227
DTEND;VALUE=DATE:20250228
DTSTAMP:20260423T051554
CREATED:20250111T153515Z
LAST-MODIFIED:20250111T153515Z
UID:10000051-1740614400-1740700799@coauthorizers.org
SUMMARY:CACSA Membership Meeting
DESCRIPTION:The CACSA membership meeting will be held during the Colorado League of Charter Schools Conference. Contact Mackenzie Khan at mackenzie.khan@coauthorizers.org for more information.
URL:https://coauthorizers.org/event/cacsa-membership-meeting/
LOCATION:Mariott Denver Tech Center\, 4900 South Syracuse St.\, Denver\, CO\, 80237\, United States
CATEGORIES:Meeting
GEO:39.6269659;-104.9018503
X-APPLE-STRUCTURED-LOCATION;VALUE=URI;X-ADDRESS=Mariott Denver Tech Center 4900 South Syracuse St. Denver CO 80237 United States;X-APPLE-RADIUS=500;X-TITLE=4900 South Syracuse St.:geo:-104.9018503,39.6269659
END:VEVENT
BEGIN:VEVENT
DTSTART;TZID=America/Denver:20250214T130000
DTEND;TZID=America/Denver:20250214T140000
DTSTAMP:20260423T051554
CREATED:20240827T234835Z
LAST-MODIFIED:20240828T003620Z
UID:10000008-1739538000-1739541600@coauthorizers.org
SUMMARY:Special Education Stakeholders Group
DESCRIPTION:
URL:https://coauthorizers.org/event/special-education-stakeholders-group-8/
END:VEVENT
BEGIN:VEVENT
DTSTART;VALUE=DATE:20250207
DTEND;VALUE=DATE:20250208
DTSTAMP:20260423T051554
CREATED:20240827T234936Z
LAST-MODIFIED:20250203T205538Z
UID:10000028-1738886400-1738972799@coauthorizers.org
SUMMARY:Cancelled-Financial Oversight Working Group
DESCRIPTION:This meeting is cancelled.  The working group will meet next month on March 7th.
URL:https://coauthorizers.org/event/financial-oversight-working-group-7/
END:VEVENT
BEGIN:VEVENT
DTSTART;TZID=America/Denver:20241217T103000
DTEND;TZID=America/Denver:20241217T113000
DTSTAMP:20260423T051554
CREATED:20240827T234920Z
LAST-MODIFIED:20240828T003741Z
UID:10000021-1734431400-1734435000@coauthorizers.org
SUMMARY:Colorado Authorizing Fundamentals
DESCRIPTION:Reflections & Recap
URL:https://coauthorizers.org/event/colorado-authorizing-fundamentals-10/
END:VEVENT
BEGIN:VEVENT
DTSTART;TZID=America/Denver:20241213T130000
DTEND;TZID=America/Denver:20241213T140000
DTSTAMP:20260423T051554
CREATED:20240827T234835Z
LAST-MODIFIED:20240828T003807Z
UID:10000006-1734094800-1734098400@coauthorizers.org
SUMMARY:Special Education Stakeholders Group
DESCRIPTION:
URL:https://coauthorizers.org/event/special-education-stakeholders-group-6/
END:VEVENT
BEGIN:VEVENT
DTSTART;TZID=America/Denver:20241206T103000
DTEND;TZID=America/Denver:20241206T113000
DTSTAMP:20260423T051554
CREATED:20240827T234935Z
LAST-MODIFIED:20240828T003833Z
UID:10000027-1733481000-1733484600@coauthorizers.org
SUMMARY:Financial Oversight Working Group
DESCRIPTION:
URL:https://coauthorizers.org/event/financial-oversight-working-group-6/
END:VEVENT
BEGIN:VEVENT
DTSTART;TZID=America/Denver:20241203T103000
DTEND;TZID=America/Denver:20241203T113000
DTSTAMP:20260423T051554
CREATED:20240827T234906Z
LAST-MODIFIED:20240828T003903Z
UID:10000020-1733221800-1733225400@coauthorizers.org
SUMMARY:Colorado Authorizing Fundamentals
DESCRIPTION:Model Authorizer Panel (Q&A)
URL:https://coauthorizers.org/event/colorado-authorizing-fundamentals-9/
END:VEVENT
BEGIN:VEVENT
DTSTART;TZID=America/Denver:20241119T103000
DTEND;TZID=America/Denver:20241119T113000
DTSTAMP:20260423T051554
CREATED:20240827T234906Z
LAST-MODIFIED:20240828T003936Z
UID:10000019-1732012200-1732015800@coauthorizers.org
SUMMARY:Colorado Authorizing Fundamentals
DESCRIPTION:School Closures
URL:https://coauthorizers.org/event/colorado-authorizing-fundamentals-8/
END:VEVENT
BEGIN:VEVENT
DTSTART;TZID=America/Denver:20241108T130000
DTEND;TZID=America/Denver:20241108T140000
DTSTAMP:20260423T051554
CREATED:20240827T234832Z
LAST-MODIFIED:20240828T002005Z
UID:10000005-1731070800-1731074400@coauthorizers.org
SUMMARY:Special Education Stakeholders Group
DESCRIPTION:
URL:https://coauthorizers.org/event/special-education-stakeholders-group-5/
END:VEVENT
BEGIN:VEVENT
DTSTART;TZID=America/Denver:20241105T103000
DTEND;TZID=America/Denver:20241105T113000
DTSTAMP:20260423T051554
CREATED:20240827T234906Z
LAST-MODIFIED:20240828T004855Z
UID:10000018-1730802600-1730806200@coauthorizers.org
SUMMARY:Colorado Authorizing Fundamentals
DESCRIPTION:Renewals & Decision Making
URL:https://coauthorizers.org/event/colorado-authorizing-fundamentals-7/
END:VEVENT
BEGIN:VEVENT
DTSTART;TZID=America/Denver:20241101T103000
DTEND;TZID=America/Denver:20241101T113000
DTSTAMP:20260423T051554
CREATED:20240827T234935Z
LAST-MODIFIED:20240828T004004Z
UID:10000026-1730457000-1730460600@coauthorizers.org
SUMMARY:Financial Oversight Working Group
DESCRIPTION:
URL:https://coauthorizers.org/event/financial-oversight-working-group-5/
END:VEVENT
BEGIN:VEVENT
DTSTART;TZID=America/Denver:20241022T103000
DTEND;TZID=America/Denver:20241022T113000
DTSTAMP:20260423T051554
CREATED:20240827T234906Z
LAST-MODIFIED:20240828T004040Z
UID:10000017-1729593000-1729596600@coauthorizers.org
SUMMARY:Colorado Authorizing Fundamentals
DESCRIPTION:Site Visits & Case Study
URL:https://coauthorizers.org/event/colorado-authorizing-fundamentals-6/
END:VEVENT
BEGIN:VEVENT
DTSTART;TZID=America/Denver:20241011T130000
DTEND;TZID=America/Denver:20241011T140000
DTSTAMP:20260423T051554
CREATED:20240827T234832Z
LAST-MODIFIED:20240828T002005Z
UID:10000004-1728651600-1728655200@coauthorizers.org
SUMMARY:Special Education Stakeholders Group
DESCRIPTION:In-Person @ CO League Conf
URL:https://coauthorizers.org/event/special-education-stakeholders-group-4/
END:VEVENT
BEGIN:VEVENT
DTSTART;TZID=America/Denver:20241008T103000
DTEND;TZID=America/Denver:20241008T113000
DTSTAMP:20260423T051554
CREATED:20240827T234905Z
LAST-MODIFIED:20240828T004250Z
UID:10000016-1728383400-1728387000@coauthorizers.org
SUMMARY:Colorado Authorizing Fundamentals
DESCRIPTION:Ongoing Monitoring
URL:https://coauthorizers.org/event/colorado-authorizing-fundamentals-5/
END:VEVENT
BEGIN:VEVENT
DTSTART;TZID=America/Denver:20241004T103000
DTEND;TZID=America/Denver:20241004T113000
DTSTAMP:20260423T051554
CREATED:20240827T234922Z
LAST-MODIFIED:20240828T004332Z
UID:10000025-1728037800-1728041400@coauthorizers.org
SUMMARY:Financial Oversight Working Group
DESCRIPTION:
URL:https://coauthorizers.org/event/financial-oversight-working-group-4/
END:VEVENT
BEGIN:VEVENT
DTSTART;TZID=America/Denver:20240924T103000
DTEND;TZID=America/Denver:20240924T113000
DTSTAMP:20260423T051554
CREATED:20240827T234851Z
LAST-MODIFIED:20240828T004407Z
UID:10000015-1727173800-1727177400@coauthorizers.org
SUMMARY:Colorado Authorizing Fundamentals
DESCRIPTION:Performance Contracting
URL:https://coauthorizers.org/event/colorado-authorizing-fundamentals-4/
END:VEVENT
BEGIN:VEVENT
DTSTART;TZID=America/Denver:20240913T130000
DTEND;TZID=America/Denver:20240913T140000
DTSTAMP:20260423T051554
CREATED:20240827T234832Z
LAST-MODIFIED:20240828T002005Z
UID:10000003-1726232400-1726236000@coauthorizers.org
SUMMARY:Special Education Stakeholders Group
DESCRIPTION:
URL:https://coauthorizers.org/event/special-education-stakeholders-group-3/
END:VEVENT
BEGIN:VEVENT
DTSTART;TZID=America/Denver:20240910T103000
DTEND;TZID=America/Denver:20240910T113000
DTSTAMP:20260423T051554
CREATED:20240827T234851Z
LAST-MODIFIED:20240828T004511Z
UID:10000014-1725964200-1725967800@coauthorizers.org
SUMMARY:Colorado Authorizing Fundamentals
DESCRIPTION:Application & Review Process
URL:https://coauthorizers.org/event/colorado-authorizing-fundamentals-3/
END:VEVENT
BEGIN:VEVENT
DTSTART;TZID=America/Denver:20240906T103000
DTEND;TZID=America/Denver:20240906T113000
DTSTAMP:20260423T051554
CREATED:20240827T234921Z
LAST-MODIFIED:20240828T004551Z
UID:10000024-1725618600-1725622200@coauthorizers.org
SUMMARY:Financial Oversight Working Group
DESCRIPTION:
URL:https://coauthorizers.org/event/financial-oversight-working-group-3/
END:VEVENT
BEGIN:VEVENT
DTSTART;TZID=America/Denver:20240827T103000
DTEND;TZID=America/Denver:20240827T113000
DTSTAMP:20260423T051554
CREATED:20240827T234851Z
LAST-MODIFIED:20240828T004630Z
UID:10000013-1724754600-1724758200@coauthorizers.org
SUMMARY:Colorado Authorizing Fundamentals
DESCRIPTION:Charter School Authorizing in Colorado
URL:https://coauthorizers.org/event/colorado-authorizing-fundamentals-2/
END:VEVENT
BEGIN:VEVENT
DTSTART;TZID=America/Denver:20240809T130000
DTEND;TZID=America/Denver:20240809T140000
DTSTAMP:20260423T051554
CREATED:20240827T234831Z
LAST-MODIFIED:20240828T002005Z
UID:10000002-1723208400-1723212000@coauthorizers.org
SUMMARY:Special Education Stakeholders Group
DESCRIPTION:
URL:https://coauthorizers.org/event/special-education-stakeholders-group-2/
END:VEVENT
END:VCALENDAR