BEGIN:VCALENDAR
VERSION:2.0
PRODID:-//Colorado Association of Charter School Authorizers - ECPv6.15.20//NONSGML v1.0//EN
CALSCALE:GREGORIAN
METHOD:PUBLISH
X-WR-CALNAME:Colorado Association of Charter School Authorizers
X-ORIGINAL-URL:https://coauthorizers.org
X-WR-CALDESC:Events for Colorado Association of Charter School Authorizers
REFRESH-INTERVAL;VALUE=DURATION:PT1H
X-Robots-Tag:noindex
X-PUBLISHED-TTL:PT1H
BEGIN:VTIMEZONE
TZID:America/Denver
BEGIN:DAYLIGHT
TZOFFSETFROM:-0700
TZOFFSETTO:-0600
TZNAME:MDT
DTSTART:20250309T090000
END:DAYLIGHT
BEGIN:STANDARD
TZOFFSETFROM:-0600
TZOFFSETTO:-0700
TZNAME:MST
DTSTART:20251102T080000
END:STANDARD
BEGIN:DAYLIGHT
TZOFFSETFROM:-0700
TZOFFSETTO:-0600
TZNAME:MDT
DTSTART:20260308T090000
END:DAYLIGHT
BEGIN:STANDARD
TZOFFSETFROM:-0600
TZOFFSETTO:-0700
TZNAME:MST
DTSTART:20261101T080000
END:STANDARD
BEGIN:DAYLIGHT
TZOFFSETFROM:-0700
TZOFFSETTO:-0600
TZNAME:MDT
DTSTART:20270314T090000
END:DAYLIGHT
BEGIN:STANDARD
TZOFFSETFROM:-0600
TZOFFSETTO:-0700
TZNAME:MST
DTSTART:20271107T080000
END:STANDARD
END:VTIMEZONE
BEGIN:VEVENT
DTSTART;TZID=America/Denver:20260925T130000
DTEND;TZID=America/Denver:20260925T140000
DTSTAMP:20260423T063800
CREATED:20260126T204004Z
LAST-MODIFIED:20260126T204004Z
UID:10000081-1790341200-1790344800@coauthorizers.org
SUMMARY:Legal and Policy Developments
DESCRIPTION:This call is co-hosted by Tom Hutton\, Executive Director of CCAP. These calls are scheduled on the 4th Friday of every month. \nThis working group collaborates on implementing our new federal grant and to address big issues in the field. Our state partners and their members are welcome to join. Each topic has been selected based on input from the field and on upcoming work by our state partners. Please join us and contact Alex Medler at alex.medler@nn4da.org for more information. \nClick Here to join via Zoom
URL:https://coauthorizers.org/event/legal-and-policy-developments/2026-09-25/
LOCATION:Zoom
ATTACH;FMTTYPE=image/jpeg:https://coauthorizers.org/wp-content/uploads/2024/02/NN4DA-Logo-1.jpg
END:VEVENT
END:VCALENDAR