BEGIN:VCALENDAR
VERSION:2.0
PRODID:-//Colorado Association of Charter School Authorizers - ECPv6.15.20//NONSGML v1.0//EN
CALSCALE:GREGORIAN
METHOD:PUBLISH
X-WR-CALNAME:Colorado Association of Charter School Authorizers
X-ORIGINAL-URL:https://coauthorizers.org
X-WR-CALDESC:Events for Colorado Association of Charter School Authorizers
REFRESH-INTERVAL;VALUE=DURATION:PT1H
X-Robots-Tag:noindex
X-PUBLISHED-TTL:PT1H
BEGIN:VTIMEZONE
TZID:America/Denver
BEGIN:DAYLIGHT
TZOFFSETFROM:-0700
TZOFFSETTO:-0600
TZNAME:MDT
DTSTART:20250309T090000
END:DAYLIGHT
BEGIN:STANDARD
TZOFFSETFROM:-0600
TZOFFSETTO:-0700
TZNAME:MST
DTSTART:20251102T080000
END:STANDARD
BEGIN:DAYLIGHT
TZOFFSETFROM:-0700
TZOFFSETTO:-0600
TZNAME:MDT
DTSTART:20260308T090000
END:DAYLIGHT
BEGIN:STANDARD
TZOFFSETFROM:-0600
TZOFFSETTO:-0700
TZNAME:MST
DTSTART:20261101T080000
END:STANDARD
BEGIN:DAYLIGHT
TZOFFSETFROM:-0700
TZOFFSETTO:-0600
TZNAME:MDT
DTSTART:20270314T090000
END:DAYLIGHT
BEGIN:STANDARD
TZOFFSETFROM:-0600
TZOFFSETTO:-0700
TZNAME:MST
DTSTART:20271107T080000
END:STANDARD
END:VTIMEZONE
BEGIN:VEVENT
DTSTART;TZID=America/Denver:20260409T120000
DTEND;TZID=America/Denver:20260409T130000
DTSTAMP:20260423T040951
CREATED:20260126T204249Z
LAST-MODIFIED:20260126T204249Z
UID:10000084-1775736000-1775739600@coauthorizers.org
SUMMARY:Technology and Artificial Intelligence in Authorizing
DESCRIPTION:This meeting is co-hosted by Marianne Blair\, Executive Director of FACSA.\nThe calls are scheduled on the 2nd Thursday of every month. \nThis working group collaborates on implementing our new federal grant and to address big issues in the field. Our state partners and their members are welcome to join. Each topic has been selected based on input from the field and on upcoming work by our state partners. Please join us and contact Alex Medler at alex.medler@nn4da.org for more information. \nRegister Here: https://teams.microsoft.com/meet/22414751706912?p=9D2bqttC7SCQzFAuzk\nMeeting ID: 224 147 517 069 12\nPasscode: y7ZV6wF9
URL:https://coauthorizers.org/event/technology-and-artificial-intelligence-in-authorizing/2026-04-09/
LOCATION:Microsoft Teams
ATTACH;FMTTYPE=image/jpeg:https://coauthorizers.org/wp-content/uploads/2024/02/NN4DA-Logo-1.jpg
END:VEVENT
BEGIN:VEVENT
DTSTART;TZID=America/Denver:20260312T120000
DTEND;TZID=America/Denver:20260312T130000
DTSTAMP:20260423T040951
CREATED:20260126T204249Z
LAST-MODIFIED:20260126T204249Z
UID:10000083-1773316800-1773320400@coauthorizers.org
SUMMARY:Technology and Artificial Intelligence in Authorizing
DESCRIPTION:This meeting is co-hosted by Marianne Blair\, Executive Director of FACSA.\nThe calls are scheduled on the 2nd Thursday of every month. \nThis working group collaborates on implementing our new federal grant and to address big issues in the field. Our state partners and their members are welcome to join. Each topic has been selected based on input from the field and on upcoming work by our state partners. Please join us and contact Alex Medler at alex.medler@nn4da.org for more information. \nRegister Here: https://teams.microsoft.com/meet/22414751706912?p=9D2bqttC7SCQzFAuzk\nMeeting ID: 224 147 517 069 12\nPasscode: y7ZV6wF9
URL:https://coauthorizers.org/event/technology-and-artificial-intelligence-in-authorizing/2026-03-12/
LOCATION:Microsoft Teams
ATTACH;FMTTYPE=image/jpeg:https://coauthorizers.org/wp-content/uploads/2024/02/NN4DA-Logo-1.jpg
END:VEVENT
BEGIN:VEVENT
DTSTART;TZID=America/Denver:20260212T120000
DTEND;TZID=America/Denver:20260212T130000
DTSTAMP:20260423T040951
CREATED:20260126T204249Z
LAST-MODIFIED:20260126T204249Z
UID:10000082-1770897600-1770901200@coauthorizers.org
SUMMARY:Technology and Artificial Intelligence in Authorizing
DESCRIPTION:This meeting is co-hosted by Marianne Blair\, Executive Director of FACSA.\nThe calls are scheduled on the 2nd Thursday of every month. \nThis working group collaborates on implementing our new federal grant and to address big issues in the field. Our state partners and their members are welcome to join. Each topic has been selected based on input from the field and on upcoming work by our state partners. Please join us and contact Alex Medler at alex.medler@nn4da.org for more information. \nRegister Here: https://teams.microsoft.com/meet/22414751706912?p=9D2bqttC7SCQzFAuzk\nMeeting ID: 224 147 517 069 12\nPasscode: y7ZV6wF9
URL:https://coauthorizers.org/event/technology-and-artificial-intelligence-in-authorizing/2026-02-12/
LOCATION:Microsoft Teams
ATTACH;FMTTYPE=image/jpeg:https://coauthorizers.org/wp-content/uploads/2024/02/NN4DA-Logo-1.jpg
END:VEVENT
END:VCALENDAR