BEGIN:VCALENDAR
VERSION:2.0
PRODID:-//Colorado Association of Charter School Authorizers - ECPv6.15.20//NONSGML v1.0//EN
CALSCALE:GREGORIAN
METHOD:PUBLISH
X-ORIGINAL-URL:https://coauthorizers.org
X-WR-CALDESC:Events for Colorado Association of Charter School Authorizers
REFRESH-INTERVAL;VALUE=DURATION:PT1H
X-Robots-Tag:noindex
X-PUBLISHED-TTL:PT1H
BEGIN:VTIMEZONE
TZID:America/Denver
BEGIN:DAYLIGHT
TZOFFSETFROM:-0700
TZOFFSETTO:-0600
TZNAME:MDT
DTSTART:20250309T090000
END:DAYLIGHT
BEGIN:STANDARD
TZOFFSETFROM:-0600
TZOFFSETTO:-0700
TZNAME:MST
DTSTART:20251102T080000
END:STANDARD
BEGIN:DAYLIGHT
TZOFFSETFROM:-0700
TZOFFSETTO:-0600
TZNAME:MDT
DTSTART:20260308T090000
END:DAYLIGHT
BEGIN:STANDARD
TZOFFSETFROM:-0600
TZOFFSETTO:-0700
TZNAME:MST
DTSTART:20261101T080000
END:STANDARD
BEGIN:DAYLIGHT
TZOFFSETFROM:-0700
TZOFFSETTO:-0600
TZNAME:MDT
DTSTART:20270314T090000
END:DAYLIGHT
BEGIN:STANDARD
TZOFFSETFROM:-0600
TZOFFSETTO:-0700
TZNAME:MST
DTSTART:20271107T080000
END:STANDARD
END:VTIMEZONE
BEGIN:VEVENT
DTSTART;TZID=America/Denver:20260420T120000
DTEND;TZID=America/Denver:20260420T130000
DTSTAMP:20260423T041055
CREATED:20260126T204852Z
LAST-MODIFIED:20260420T130555Z
UID:10000100-1776686400-1776690000@coauthorizers.org
SUMMARY:Charter School Models & Authorizing
DESCRIPTION:This call is co-hosted by Tim Scottberg\, Associate Director\, Wisconsin Resource Center for Charter Schools\nMeetings are held on the 3rd Monday of every month \nWe discuss how state partners can implement their own state-level Charter School Model Task Force and discuss educational and operational aspects of authorizing innovative charter school models This group is intended to help NN4DA state partners from all states do the work to establish a state task force on a specific charter school model\, funded by the NN4DA CSP grant. Please join us and contact Alex Medler at alex.medler@nn4da.org for more information. \nMeeting Registration Link – Zoom\nGoogle form: Model Work Groups and Academic Quality and Innovation Meeting Log.docx – Google Docs
URL:https://coauthorizers.org/event/charter-school-models-authorizing/2026-04-20/
LOCATION:Zoom
ATTACH;FMTTYPE=image/jpeg:https://coauthorizers.org/wp-content/uploads/2024/02/NN4DA-Logo-1.jpg
END:VEVENT
BEGIN:VEVENT
DTSTART;TZID=America/Denver:20260415T140000
DTEND;TZID=America/Denver:20260415T150000
DTSTAMP:20260423T041055
CREATED:20260126T204539Z
LAST-MODIFIED:20260126T204539Z
UID:10000092-1776261600-1776265200@coauthorizers.org
SUMMARY:Authorizer Assessment and Technical Assistance
DESCRIPTION:This call is co-hosted by Mackenzie Khan\, Executive Director of CACSA.\nMeetings are held on the 3rd Wednesday of every month. \nThis working group collaborates on implementing our new federal grant and to address big issues in the field. Our state partners and their members are welcome to join. Each topic has been selected based on input from the field and on upcoming work by our state partners. Please join us and contact Alex Medler at alex.medler@nn4da.org or Mackenzie Khan at mackenzie.khan@coauthorizers.org for more information. \nClick Here to join via Zoom
URL:https://coauthorizers.org/event/authorizer-assessment-and-technical-assistance/2026-04-15/
LOCATION:Zoom
ATTACH;FMTTYPE=image/jpeg:https://coauthorizers.org/wp-content/uploads/2024/02/NN4DA-Logo-1.jpg
END:VEVENT
BEGIN:VEVENT
DTSTART;TZID=America/Denver:20260415T120000
DTEND;TZID=America/Denver:20260415T130000
DTSTAMP:20260423T041055
CREATED:20260126T203144Z
LAST-MODIFIED:20260126T205222Z
UID:10000071-1776254400-1776258000@coauthorizers.org
SUMMARY:Authorizer Monthly Virtual Networking Call
DESCRIPTION:The monthly virtual networking call allows authorizers across the state to connect\, troubleshoot\, brainstorm\, share insights\, and discuss current happenings in their areas.\nThese Zoom calls will occur every month on the third Wednesday from 12:00-1:00 pm Mountain Time. \nFor more information\, please reach out to Mackenzie Khan at mackenzie.khan@coauthorizers.org. \n 
URL:https://coauthorizers.org/event/authorizer-monthly-virtual-networking-call/2026-04-15/
LOCATION:Zoom
CATEGORIES:Meeting
ATTACH;FMTTYPE=image/png:https://coauthorizers.org/wp-content/uploads/2021/09/CACSA-logo-400x176-1.png
END:VEVENT
BEGIN:VEVENT
DTSTART;TZID=America/Denver:20260327T130000
DTEND;TZID=America/Denver:20260327T140000
DTSTAMP:20260423T041056
CREATED:20260126T204004Z
LAST-MODIFIED:20260126T204004Z
UID:10000075-1774616400-1774620000@coauthorizers.org
SUMMARY:Legal and Policy Developments
DESCRIPTION:This call is co-hosted by Tom Hutton\, Executive Director of CCAP. These calls are scheduled on the 4th Friday of every month. \nThis working group collaborates on implementing our new federal grant and to address big issues in the field. Our state partners and their members are welcome to join. Each topic has been selected based on input from the field and on upcoming work by our state partners. Please join us and contact Alex Medler at alex.medler@nn4da.org for more information. \nClick Here to join via Zoom
URL:https://coauthorizers.org/event/legal-and-policy-developments/2026-03-27/
LOCATION:Zoom
ATTACH;FMTTYPE=image/jpeg:https://coauthorizers.org/wp-content/uploads/2024/02/NN4DA-Logo-1.jpg
END:VEVENT
BEGIN:VEVENT
DTSTART;TZID=America/Denver:20260318T140000
DTEND;TZID=America/Denver:20260318T150000
DTSTAMP:20260423T041056
CREATED:20260126T204539Z
LAST-MODIFIED:20260126T204539Z
UID:10000091-1773842400-1773846000@coauthorizers.org
SUMMARY:Authorizer Assessment and Technical Assistance
DESCRIPTION:This call is co-hosted by Mackenzie Khan\, Executive Director of CACSA.\nMeetings are held on the 3rd Wednesday of every month. \nThis working group collaborates on implementing our new federal grant and to address big issues in the field. Our state partners and their members are welcome to join. Each topic has been selected based on input from the field and on upcoming work by our state partners. Please join us and contact Alex Medler at alex.medler@nn4da.org or Mackenzie Khan at mackenzie.khan@coauthorizers.org for more information. \nClick Here to join via Zoom
URL:https://coauthorizers.org/event/authorizer-assessment-and-technical-assistance/2026-03-18/
LOCATION:Zoom
ATTACH;FMTTYPE=image/jpeg:https://coauthorizers.org/wp-content/uploads/2024/02/NN4DA-Logo-1.jpg
END:VEVENT
BEGIN:VEVENT
DTSTART;TZID=America/Denver:20260318T120000
DTEND;TZID=America/Denver:20260318T130000
DTSTAMP:20260423T041056
CREATED:20260126T203144Z
LAST-MODIFIED:20260126T205222Z
UID:10000070-1773835200-1773838800@coauthorizers.org
SUMMARY:Authorizer Monthly Virtual Networking Call
DESCRIPTION:The monthly virtual networking call allows authorizers across the state to connect\, troubleshoot\, brainstorm\, share insights\, and discuss current happenings in their areas.\nThese Zoom calls will occur every month on the third Wednesday from 12:00-1:00 pm Mountain Time. \nFor more information\, please reach out to Mackenzie Khan at mackenzie.khan@coauthorizers.org. \n 
URL:https://coauthorizers.org/event/authorizer-monthly-virtual-networking-call/2026-03-18/
LOCATION:Zoom
CATEGORIES:Meeting
ATTACH;FMTTYPE=image/png:https://coauthorizers.org/wp-content/uploads/2021/09/CACSA-logo-400x176-1.png
END:VEVENT
BEGIN:VEVENT
DTSTART;TZID=America/Denver:20260316T120000
DTEND;TZID=America/Denver:20260316T130000
DTSTAMP:20260423T041056
CREATED:20260126T204852Z
LAST-MODIFIED:20260420T130555Z
UID:10000099-1773662400-1773666000@coauthorizers.org
SUMMARY:Charter School Models & Authorizing
DESCRIPTION:This call is co-hosted by Tim Scottberg\, Associate Director\, Wisconsin Resource Center for Charter Schools\nMeetings are held on the 3rd Monday of every month \nWe discuss how state partners can implement their own state-level Charter School Model Task Force and discuss educational and operational aspects of authorizing innovative charter school models This group is intended to help NN4DA state partners from all states do the work to establish a state task force on a specific charter school model\, funded by the NN4DA CSP grant. Please join us and contact Alex Medler at alex.medler@nn4da.org for more information. \nMeeting Registration Link – Zoom\nGoogle form: Model Work Groups and Academic Quality and Innovation Meeting Log.docx – Google Docs
URL:https://coauthorizers.org/event/charter-school-models-authorizing/2026-03-16/
LOCATION:Zoom
ATTACH;FMTTYPE=image/jpeg:https://coauthorizers.org/wp-content/uploads/2024/02/NN4DA-Logo-1.jpg
END:VEVENT
BEGIN:VEVENT
DTSTART;TZID=America/Denver:20260227T130000
DTEND;TZID=America/Denver:20260227T140000
DTSTAMP:20260423T041056
CREATED:20260126T204004Z
LAST-MODIFIED:20260126T204004Z
UID:10000074-1772197200-1772200800@coauthorizers.org
SUMMARY:Legal and Policy Developments
DESCRIPTION:This call is co-hosted by Tom Hutton\, Executive Director of CCAP. These calls are scheduled on the 4th Friday of every month. \nThis working group collaborates on implementing our new federal grant and to address big issues in the field. Our state partners and their members are welcome to join. Each topic has been selected based on input from the field and on upcoming work by our state partners. Please join us and contact Alex Medler at alex.medler@nn4da.org for more information. \nClick Here to join via Zoom
URL:https://coauthorizers.org/event/legal-and-policy-developments/2026-02-27/
LOCATION:Zoom
ATTACH;FMTTYPE=image/jpeg:https://coauthorizers.org/wp-content/uploads/2024/02/NN4DA-Logo-1.jpg
END:VEVENT
BEGIN:VEVENT
DTSTART;TZID=America/Denver:20260218T140000
DTEND;TZID=America/Denver:20260218T150000
DTSTAMP:20260423T041056
CREATED:20260126T204539Z
LAST-MODIFIED:20260126T204539Z
UID:10000090-1771423200-1771426800@coauthorizers.org
SUMMARY:Authorizer Assessment and Technical Assistance
DESCRIPTION:This call is co-hosted by Mackenzie Khan\, Executive Director of CACSA.\nMeetings are held on the 3rd Wednesday of every month. \nThis working group collaborates on implementing our new federal grant and to address big issues in the field. Our state partners and their members are welcome to join. Each topic has been selected based on input from the field and on upcoming work by our state partners. Please join us and contact Alex Medler at alex.medler@nn4da.org or Mackenzie Khan at mackenzie.khan@coauthorizers.org for more information. \nClick Here to join via Zoom
URL:https://coauthorizers.org/event/authorizer-assessment-and-technical-assistance/2026-02-18/
LOCATION:Zoom
ATTACH;FMTTYPE=image/jpeg:https://coauthorizers.org/wp-content/uploads/2024/02/NN4DA-Logo-1.jpg
END:VEVENT
BEGIN:VEVENT
DTSTART;TZID=America/Denver:20260218T120000
DTEND;TZID=America/Denver:20260218T130000
DTSTAMP:20260423T041056
CREATED:20260126T203144Z
LAST-MODIFIED:20260126T205222Z
UID:10000069-1771416000-1771419600@coauthorizers.org
SUMMARY:Authorizer Monthly Virtual Networking Call
DESCRIPTION:The monthly virtual networking call allows authorizers across the state to connect\, troubleshoot\, brainstorm\, share insights\, and discuss current happenings in their areas.\nThese Zoom calls will occur every month on the third Wednesday from 12:00-1:00 pm Mountain Time. \nFor more information\, please reach out to Mackenzie Khan at mackenzie.khan@coauthorizers.org. \n 
URL:https://coauthorizers.org/event/authorizer-monthly-virtual-networking-call/2026-02-18/
LOCATION:Zoom
CATEGORIES:Meeting
ATTACH;FMTTYPE=image/png:https://coauthorizers.org/wp-content/uploads/2021/09/CACSA-logo-400x176-1.png
END:VEVENT
BEGIN:VEVENT
DTSTART;TZID=America/Denver:20260216T120000
DTEND;TZID=America/Denver:20260216T130000
DTSTAMP:20260423T041056
CREATED:20260126T204852Z
LAST-MODIFIED:20260420T130555Z
UID:10000098-1771243200-1771246800@coauthorizers.org
SUMMARY:Charter School Models & Authorizing
DESCRIPTION:This call is co-hosted by Tim Scottberg\, Associate Director\, Wisconsin Resource Center for Charter Schools\nMeetings are held on the 3rd Monday of every month \nWe discuss how state partners can implement their own state-level Charter School Model Task Force and discuss educational and operational aspects of authorizing innovative charter school models This group is intended to help NN4DA state partners from all states do the work to establish a state task force on a specific charter school model\, funded by the NN4DA CSP grant. Please join us and contact Alex Medler at alex.medler@nn4da.org for more information. \nMeeting Registration Link – Zoom\nGoogle form: Model Work Groups and Academic Quality and Innovation Meeting Log.docx – Google Docs
URL:https://coauthorizers.org/event/charter-school-models-authorizing/2026-02-16/
LOCATION:Zoom
ATTACH;FMTTYPE=image/jpeg:https://coauthorizers.org/wp-content/uploads/2024/02/NN4DA-Logo-1.jpg
END:VEVENT
END:VCALENDAR